BEGIN:VCALENDAR
VERSION:2.0
PRODID:-//Ana Wanke - ECPv6.15.20//NONSGML v1.0//EN
CALSCALE:GREGORIAN
METHOD:PUBLISH
X-WR-CALNAME:Ana Wanke
X-ORIGINAL-URL:https://anawanke.com
X-WR-CALDESC:Eventos para Ana Wanke
REFRESH-INTERVAL;VALUE=DURATION:PT1H
X-Robots-Tag:noindex
X-PUBLISHED-TTL:PT1H
BEGIN:VTIMEZONE
TZID:America/Sao_Paulo
BEGIN:STANDARD
TZOFFSETFROM:-0300
TZOFFSETTO:-0300
TZNAME:-03
DTSTART:20260101T000000
END:STANDARD
END:VTIMEZONE
BEGIN:VEVENT
DTSTART;TZID=America/Sao_Paulo:20271016T060000
DTEND;TZID=America/Sao_Paulo:20271030T160000
DTSTAMP:20260424T182246
CREATED:20240607T114805Z
LAST-MODIFIED:20260123T111750Z
UID:25678-1823666400-1824912000@anawanke.com
SUMMARY:Caminho da Fé desde Águas da Prata 2027
DESCRIPTION:Percorreremos os 317 km  desde  Águas da Prata\, onde nasceu o Caminho da Fé\, até o Santuário Nacional de Aparecida\, passando por cafezais\, paisagens lindas\, cruzando a Serra da Mantiqueira e descendo a Estrada de Pedrinhas. \nEste é o caminho no Brasil que mais se assemelha ao Caminho de Santiago na Espanha. \nNeste caminho a hospedagem é simples a comida é caseira\, a caminhada é longa e a recompensa é Divina! \n\n1º Dia – Sábado: Deslocamento de Curitiba (PR) a Águas da Prata (SP). Pernoite em Águas da Prata.\n2º Dia – Domingo: Águas da Prata – Andradas: Caminharemos cerca de 21 km\, com acompanhamento de carro de apoio. Nosso pernoite é em pousada no Caminho com quartos duplos e triplos.\n3º Dia – Segunda-feira: Andradas – Serra dos Lima: Caminharemos cerca de 26 km\, com acompanhamento de carro de apoio. Nosso pernoite é em albergue no Caminho com quartos coletivos.\n4º Dia – Terça-feira: Serra dos Lima – Crisólia: Caminharemos cerca de 18 km\, com acompanhamento de carro de apoio. Nosso pernoite é em albergue no Caminho com quartos coletivos.\n5º Dia – Quarta-feira: Crisólia – Inconfidentes: Caminharemos cerca de 22 km\, com acompanhamento de carro de apoio. Neste dia passaremos por Ouro Fino onde está a estátua do Menino da Porteira. Nosso pernoite é em albergue no Caminho com quartos coletivos.\n6º Dia – Quinta-feira: Inconfidentes – Porteira do Céu: Caminharemos cerca de 25 km até a Porteira do Céu\, com acompanhamento de carro de apoio. Nosso pernoite é em pousada no Caminho com quartos duplos e triplos.\n7º Dia – Sexta-feira: Porteira do Céu – Fazenda Velha: Caminharemos cerca de 22 km\, com acompanhamento de carro de apoio. Nosso pernoite é em albergue no Caminho com quartos coletivos.\n8º Dia – Sábado: Fazenda Velha – Consolação: Caminharemos cerca de 25 km\, com acompanhamento de carro de apoio. Nosso pernoite é em Pousada no Caminho com quartos duplos e triplos.\n9º Dia – Domingo: Consolação – Paraisópolis: Caminharemos cerca de 23 km\, com acompanhamento de carro de apoio. Nosso pernoite é em Pousada no Caminho com quartos duplos e triplos.\n10º Dia – Segunda-feira: Paraisópolis – Luminosa: Caminharemos cerca de 23 km\, com acompanhamento de carro de apoio. Nosso pernoite é em albergue no Caminho com quartos coletivos.\n11º Dia – Terça-feira: Luminosa – Campista: Percorreremos cerca de 18 km\, com lanche de trilha incluso. Esse é o dia da Subida da Luminosa. O pernoite é em alojamento coletivo.\n12º Dia – Quarta-feira: Campista – Campos do Jordão: Percorreremos cerca de 24 km até Campos do Jordão. Ficaremos em quartos duplos e triplos\, do ladinho da Cervejaria Baden Baden!!\n13º Dia – Quinta-feira: Campos do Jordão – Gomeral: Percorreremos cerca de 27 km\, descendo pela linda e famosa Estrada de Pedrinhas. Chegaremos numa pousada com um lindo visual das montanhas.\n14º Dia – Sexta-feira: Gomeral – Aparecida: Percorreremos cerca de 24 km até chegarmos ao Santuário Nacional de Aparecida. Lá assistiremos a missa (opcional) e teremos tempo para visitar o local\, almoçarmos e retirarmos o certificado de conclusão do Caminho da Fé. Pernoite em Aparecida.\n15º Dia – Sábado: Retorno à Curitiba após café da manhã.\n\nO Caminho da Fé (Brasil)\, inspirado no milenar Caminho de Santiago de Compostela (Espanha)\, foi criado para dar estrutura às pessoas que sempre fizeram peregrinação ao Santuário Nacional de Aparecida\, oferecendo-lhes os necessários pontos de apoio. Venha caminhar e se emocionar nessa jornada com apoio\, segurança e comodidade da estrutura que a Ana Wanke Turismo e Aventura costuma lhe oferecer. \n\nCompartilhe:
URL:https://anawanke.com/roteiro/caminho-da-fe-julho-2027/
LOCATION:Santuário Nacional de Aparecida\, Aparecida\, São Paulo\, Brasil
CATEGORIES:Caminhada
ATTACH;FMTTYPE=image/jpeg:https://anawanke.com/wp-content/uploads/2017/02/COLONIA.jpg
END:VEVENT
END:VCALENDAR