BEGIN:VCALENDAR
VERSION:2.0
PRODID:-//Ana Wanke - ECPv6.15.20//NONSGML v1.0//EN
CALSCALE:GREGORIAN
METHOD:PUBLISH
X-WR-CALNAME:Ana Wanke
X-ORIGINAL-URL:https://anawanke.com
X-WR-CALDESC:Eventos para Ana Wanke
REFRESH-INTERVAL;VALUE=DURATION:PT1H
X-Robots-Tag:noindex
X-PUBLISHED-TTL:PT1H
BEGIN:VTIMEZONE
TZID:America/Sao_Paulo
BEGIN:STANDARD
TZOFFSETFROM:-0300
TZOFFSETTO:-0300
TZNAME:-03
DTSTART:20220101T000000
END:STANDARD
END:VTIMEZONE
BEGIN:VEVENT
DTSTART;TZID=America/Sao_Paulo:20231102T070000
DTEND;TZID=America/Sao_Paulo:20231108T230000
DTSTAMP:20260425T112235
CREATED:20230424T141921Z
LAST-MODIFIED:20231026T183512Z
UID:20508-1698908400-1699484400@anawanke.com
SUMMARY:Caminho da Fé
DESCRIPTION:VAGAS ESGOTADAS \nIremos percorrer os 135 últimos quilômetros do Caminho da Fé que passa pela Serra da Mantiqueira e vai até o Santuário Nacional de Aparecida\,  pela Estrada de Pedrinhas. Vamos aproveitar o feriado de finados e começar nossa caminhada numa quinta-feira. \nEste é o caminho no Brasil que mais se assemelha ao Caminho de Santiago na Espanha. \nNeste caminho a hospedagem é simples a comida é caseira\, a caminhada é longa e a recompensa é Divina! \n\nQuinta-feira: Deslocamento de Curitiba (PR) a Paraisópolis (MG).\nSexta-feira: Percorreremos cerca de 23 km de Paraisópolis até a Luminosa\, com acompanhamento de carro de apoio. Nosso pernoite é em pousada de peregrinos\, com dormitório coletivo (homens separado das mulheres).\nSábado: Percorreremos cerca de 18 km até a Pousada Barão Montês\, com lanche de trilha incluso. Esse é o dia da Subida da Luminosa. Como chegaremos cedo\, é opcional ir até a Pedra do Bauzinho.\nDomingo: Percorreremos cerca de 24 km até Campos do Jordão. Ficaremos em quartos duplos e triplos\, do ladinho da Cervejaria Baden Baden!!\nSegunda-feira: Percorreremos cerca de 28 km\, descendo pela linda e famosa Estrada de Pedrinhas. Chegaremos numa pousada onde passa um rio onde poderemos ficar com os pés na água descansando.\nTerça-feira: Percorreremos cerca de 25 km até chegarmos ao Santuário Nacional de Aparecida. Lá assistiremos a missa (opcional) e teremos tempo para visitar o local\, almoçarmos e retirarmos o certificado de conclusão do Caminho da Fé. Logo após faremos uma visita guia ao Santuário. Pernoite em Aparecida.\nQuarta-feira: Retorno à Curitiba após café da manhã.\n\nO Caminho da Fé (Brasil)\, inspirado no milenar Caminho de Santiago de Compostela (Espanha)\, foi criado para dar estrutura às pessoas que sempre fizeram peregrinação ao Santuário Nacional de Aparecida\, oferecendo-lhes os necessários pontos de apoio. Venha caminhar e se emocionar nessa jornada com apoio\, segurança e comodidade da estrutura que a Ana Wanke Turismo e Aventura costuma lhe oferecer. \n\nCompartilhe:
URL:https://anawanke.com/roteiro/caminho-da-fe-nov2023/
LOCATION:Santuário Nacional de Aparecida\, Aparecida\, São Paulo\, Brasil
CATEGORIES:Caminhada
ATTACH;FMTTYPE=image/jpeg:https://anawanke.com/wp-content/uploads/2017/02/COLONIA.jpg
END:VEVENT
BEGIN:VEVENT
DTSTART;TZID=America/Sao_Paulo:20231110T170000
DTEND;TZID=America/Sao_Paulo:20231112T200000
DTSTAMP:20260425T112235
CREATED:20170824T040426Z
LAST-MODIFIED:20231026T183431Z
UID:4303-1699635600-1699819200@anawanke.com
SUMMARY:Floripa por Trilhas com Morro da Coroa
DESCRIPTION:VAGAS ESGOTADAS: Saímos na sexta no final do dia e chegamos tarde da noite em nosso Hotel no Centrinho da Lagoa em Floripa. \n\nSábado: Nossa trilha de sábado é a travessia entre o Matadeiro a Lagoinnha do Leste. Sairemos da Praia do Matadeiro\, onde acaba a areia e surge a trilha. Os primeiros 30 minutos de caminhada são os mais difíceis e cansativos. É preciso fazer subidas íngremes e\, em alguns pontos\, o mato é um pouco fechado. No meio do caminho há água\, um córrego corta a trilha e oferece água fresca e sombra. Depois deste trecho\, o caminho é tranqüilo\, sem subidas e de uma beleza incrível\, revelando a cada momento uma nova e fascinante paisagem. Durante duas horas a trilha margeia os costões\, passando pela Ponta do Quebra-Remo\, Ponta do Facão e Ponta da Lagoinha\, onde faremos nosso piquenique. Ultrapassando a Ponta da Lagoinha\, chega-se à praia\, onde localiza-se a Lagoinha\, como é carinhosamente chamada pelos ilhéus. Os turistas a consideram a mais bonita da Ilha. Os moradores do Sul da Ilha garantem que ela é a mais misteriosa de Florianópolis. Os ecologistas a defendem como se fosse a última praia do mundo. Seja qual for a opinião sobre a Lagoinha do Leste\, ela é única. Para fechar a caminhada\, vamos subir o Morro da Coroa e ter uma vista privilegiada deste paraíso! Nosso ponto final será no Bar do Arante\, no Pantano do Sul\, local super tradicional na região.\nDomingo: O domingo ficou reservado para o Caminho da Costa da Lagoa\, que não tem grandes obstáculos. É uma trilha feita em trechos planos por quase todo o percurso\, onde passaremos por enseadas de águas calmas e por sete vilas (na ordem: Vila Verde\, Praia Seca\, Praia da Areia\, Baixada\, Centrinho\, Praia do Sul e Saquinho). O ponto mais elevado fica após a Ponta da Areia\, de onde se pode avistar uma paisagem inesquecível: uma panorâmica das dunas da Praia da Joaquina\, da Lagoa em toda sua extensão\, da Reserva Ecológica do Rio Vermelho\, do Morro da Barra da Lagoa e da Ponta da Galheta. A trilha da Costa da Lagoa tem 8 km e termina no Saquinho. O ponto final da nossa caminhada é um charmoso restaurante com trapiche que se estende para dentro da Lagoa e de onde pegaremos o barco para voltar.\n\n\nCompartilhe:
URL:https://anawanke.com/roteiro/floripa-por-trilhas/
LOCATION:Florianópolis\, Florianópolis\, Santa Catarina\, Brasil
CATEGORIES:Caminhada,Trekking
ATTACH;FMTTYPE=image/jpeg:https://anawanke.com/wp-content/uploads/2017/08/Copia-de-MARCO-2021-1.jpg
END:VEVENT
END:VCALENDAR