BEGIN:VCALENDAR
VERSION:2.0
PRODID:-//Ana Wanke - ECPv6.15.20//NONSGML v1.0//EN
CALSCALE:GREGORIAN
METHOD:PUBLISH
X-WR-CALNAME:Ana Wanke
X-ORIGINAL-URL:https://anawanke.com
X-WR-CALDESC:Eventos para Ana Wanke
REFRESH-INTERVAL;VALUE=DURATION:PT1H
X-Robots-Tag:noindex
X-PUBLISHED-TTL:PT1H
BEGIN:VTIMEZONE
TZID:America/Sao_Paulo
BEGIN:STANDARD
TZOFFSETFROM:-0300
TZOFFSETTO:-0300
TZNAME:-03
DTSTART:20260101T000000
END:STANDARD
END:VTIMEZONE
BEGIN:VEVENT
DTSTART;TZID=America/Sao_Paulo:20270904T130000
DTEND;TZID=America/Sao_Paulo:20270920T120000
DTSTAMP:20260424T173005
CREATED:20251216T012921Z
LAST-MODIFIED:20251216T123640Z
UID:28237-1820062800-1821441600@anawanke.com
SUMMARY:Caminho de Santiago Português 2027
DESCRIPTION:Os Caminhos de Santiago são os percursos percorridos pelos peregrinos que afluem a Santiago de Compostela desde o século IX para venerar as relíquias do apóstolo Santiago Maior\, cujo suposto sepulcro se encontra na catedral de Santiago de Compostela. A peregrinação foi uma das mais concorridas da Europa medieval\, cuja importância só era superada pela Via Francigena (com destino a Roma) e Jerusalém\, sendo concedida indulgência plena a quem a fizesse. Depois de vários séculos relativamente esquecida\, desde os anos 1980 que a popularidade da peregrinação tem vindo a crescer substancialmente\, embora grande parte das pessoas que fazem o Caminho — nome pelo qual é também conhecida a peregrinação — atualmente não o façam por motivos religiosos. \nO Caminho tornou-se um itinerário espiritual e cultural de primeira ordem\, que é percorrido por dezenas ou centenas de milhares de pessoas todos os anos. Foi declarado Primeiro Itinerário Cultural Europeu em 1987 e Patrimônio da Humanidade (na Espanha em 1993 e na França em 1998). \nVamos levar você pela rota portuguesa\, ou seja\, pelo Caminho Português. Aliás a Língua Galega\, falada na Galícia\, é a mãe da nossa querida Língua Portuguesa. Vamos em busca da nossa origem… \n\nDia 1 (04/setembro/2027): Chegada em Porto. Pernoite em Porto.\nDia 2: City Tour em Porto\, com tarde livre. Pernoite em Porto\nDia 3: Transfer de Porto à Barcelos\, com visita à Barcelos. Pernoite em Barcelos\nDia 4: Caminhada de Barcelos a Balugães (16\,4 km) Pernoite em Balugães.\nDia 5: Caminhada de Balugães a Ponte de Lima (17 km) Pernoite em Pontes de Lima.\nDia 6: Caminhada da Ponte de Lima a Rubiães (18 km) Pernoite em Rubiães.\nDia 7: Caminhada de Rubiães a Tui (23 km). Pernoite em Tui.\nDia 8: Caminhada de Tui a Porriño (17 km km) Pernoite em Porriño.\nDia 9: Caminhada de Porriño a Cesantes (19 km) Pernoite em um hotel na beira da praia.\nDia 10: Caminhada de Cesantes a Pontevedra  (17 km) Pernoite em Pontevedra\, uma cidade histórica\, com várias curiosidades para serem descobertas.\nDia 11: Caminhada de Pontevedra a Caldas de Reys (21 km) Pernoite em Holtel balneário em Caldas de Reys\, balneário de águas termais.\nDia 12: Caminhada de Calda de Reys a Padron (19 km)\nDia 13: Caminhada de Padrón a O Milladoiro (17\,5 km) Pernoite em O Milladoiro.\nDia 14 (17/setembro/2027): Caminhada de O Milladoiro a Santiago de Compostela (7\,5 km) Pernoite em Santiago de Compostela. Visita pelo Casco Antigo da Santiago\nDia 15: Tour por Santiago Visita guiada na Catedral nos telhados e Visita guiada dentro da Catedral de Santiago. Pernoite em Santiago de Compostela.\nDia 16: Visita a Finisterra e Muxia  Pernoite em Santiago de Compostela\, Jantar de despedida. Pernoite em Santiago de Compostela.\nDia 17 (20/setembro/2027): Fim do roteiro\n\n\nCompartilhe:
URL:https://anawanke.com/roteiro/caminho-de-santiago-portugues-2027/
LOCATION:Santiago de Compostela\, Santiago de Compostela\, Galícia\, Espanha
CATEGORIES:Caminhada
ATTACH;FMTTYPE=image/jpeg:https://anawanke.com/wp-content/uploads/2022/04/Capa_Portugues.jpeg
END:VEVENT
BEGIN:VEVENT
DTSTART;TZID=America/Sao_Paulo:20270922T120000
DTEND;TZID=America/Sao_Paulo:20271006T120000
DTSTAMP:20260424T173005
CREATED:20260122T175838Z
LAST-MODIFIED:20260122T190832Z
UID:47385-1821614400-1822824000@anawanke.com
SUMMARY:Caminho de São Francisco de Assis 2027
DESCRIPTION:Vamos trilhar o Caminho de São Francisco de Assis! Venha conhecer a história e o legado deste homem que foi um Santo já em vida\, conversava com os animais\, tinha um novo olhar para a humanidade e foi um dos precursores do renascimento. \nNosso objetivo maior é seguir os passos de São Francisco\, então vamos lá para um resumão: A caminhada começará na Toscana e se desenvolverá pela Umbria. Terminaremos nosso roteiro em Assis\, mundialmente famosa por ser a cidade de São Francisco de Assis e Santa Clara. Essa cidade também foi escolhida para ser o lugar do descanso eterno do primeiro Santo Millenial\, Carlo Acutis. Ainda teremos tempo de visitar o Santiario de Santa Rita de Cassia!! \nAssis é um lugar com uma energia única\, que recebe peregrinos e fiéis do mundo todo. Mas não é só por isso que Assis é especial. Ela é uma cidadezinha medieval\, que mantém muito de sua arquitetura original. \nConfira o dia a dia do nosso roteiro: \nDia 1 (22/set): Transfer de Roma à La Verna\, na Toscana. Pernoite em La Verna\, onde São Francisco de Assis recebeu os estigmas de Cristo. Teremos nosso jantar de Confraternização incluso. \nDia 2 (23/set): Após o café da manhã\, caminharemos através de uma floresta encantada\, onde São Francisco costumava meditar\, orar e curar. Passaremos o resto do dia no Santuário\, visitando as várias partes interessantes do lugar e conhecendo a história de São Francisco. Pernoite em La Verna. \nDia 3 (24/set): Caminhada de 15 km. \nDia 4 (25/set): Caminhada de 19 km. \nDia 5 (26/set): Caminhada de 22 km. \nDia 6 (27/set): Caminhada de 23 km. \nDia 7 (28/set): Caminhada de 13 km. \nDia 8 (29/set): Caminhada de 23 km. \nDia 8 (30/set): Caminhada de 20 km. Pernoite em Gubbio\, cidade onde São Francisco conversou com o Lobo. \nDia 9 (01/out): Caminhada de 16 km. \nDia 10 (02/out): Caminhada de 22 km. \nDia 11 (03/out): Caminhada de 13 km. Pernoite em Assis. Retirada do Certificado do peregrino e visita guiada no Santuário de Assis. Missa e Benção do Peregrino. \nDia 10 (04/out): Dia livre para percorrer a cidade de Assis no dia de São Francisco!! Visitaremos Basílica de Santa Clara e Santuário de São Damião (um pouco afastada da cidade). Todos esses lugares fazem parte da história de São Francisco. Além disso podemos visitar a Basílica de San Rufino encontra-se o corpo do Beato Carlo Acutis santificado em 2025. \nDia 11 (05/out): Como há muito que se ver em Assis\, vamos aproveitar e visitar a Porciúncula onde São Francisco faleceu. Visita à Cassia e a cidade natal de Santa Rita de Cassia. Pernoite em Assis. \nDia 13 (06/out): Retorno à Roma e fim do roteiro. \n\nCompartilhe:
URL:https://anawanke.com/roteiro/caminho-de-sao-francisco-de-assis-2027/
CATEGORIES:Caminhada,Turismo
ATTACH;FMTTYPE=image/jpeg:https://anawanke.com/wp-content/uploads/2019/10/Corporate-Website-Facebook-Cover-.jpg
END:VEVENT
END:VCALENDAR