BEGIN:VCALENDAR
VERSION:2.0
PRODID:-//Ana Wanke - ECPv6.15.20//NONSGML v1.0//EN
CALSCALE:GREGORIAN
METHOD:PUBLISH
X-ORIGINAL-URL:https://anawanke.com
X-WR-CALDESC:Eventos para Ana Wanke
REFRESH-INTERVAL;VALUE=DURATION:PT1H
X-Robots-Tag:noindex
X-PUBLISHED-TTL:PT1H
BEGIN:VTIMEZONE
TZID:America/Sao_Paulo
BEGIN:STANDARD
TZOFFSETFROM:-0300
TZOFFSETTO:-0300
TZNAME:-03
DTSTART:20260101T000000
END:STANDARD
END:VTIMEZONE
BEGIN:VEVENT
DTSTART;TZID=America/Sao_Paulo:20270119T170000
DTEND;TZID=America/Sao_Paulo:20270126T080000
DTSTAMP:20260424T065019
CREATED:20250131T130924Z
LAST-MODIFIED:20251223T192402Z
UID:29295-1800378000-1800950400@anawanke.com
SUMMARY:Patagonia Chilena 2027
DESCRIPTION:Nossa expedição pela Patagônia Chilena no Parque Nacional Torres del Paine promete ser uma experiência incrível! O Circuito W é realmente famoso por suas paisagens deslumbrantes e trekking desafiador. Cada uma das paradas\, como a Base das Torres e o Mirante do Glaciar Grey\, oferece vistas espetaculares. \nBora com Ana Wanke para um dos lugres mais lindos do mundo? Confira o roteiro: \n\nDia 1: Chegada\n– Nos encontramos no hotel em Punta Arenas\n– Pernoite em Punta Arenas (quartos duplos)\nDia 2: Transfer para o Parque\n– Transfer privado Punta Arenas/Parque\n– Jantar incluso\n– Pernoite no Refugio Central (quartos coletivos)\nDia 3:  Base das Torres\n– Trekking à Base das Torres (1a. perna do Circuito W)\n– Café da manhã\, piquenique e jantar inclusos\n– Pernoite no Refugio Chileno (barracas completas em duplas)\nDia 4:  Los Cuernos\n– Trekking ao Refugio Los Cuernos\n– Café da manhã\, piquenique e jantar inclusos\n– Pernoite no Refugio Los Cuernos (quartos coletivos)\nDia 5: Vale Francês\n– Caminhada pelo Vale Francês (2a. perna do Circuito W)\n– Café da manhã\, piquenique e jantar inclusos\n– Pernoite no Refugio Francês (quartos coletivos)\nDia 6: Refugio Paine Grande\n– Trekking ao Refugio Paine Grande\n– Café da manhã\, piquenique e jantar inclusos\n– Pernoite no Refugio Paine Grande (quartos coletivos)\nDia 7: Ultimo dia do Circuito W\n– Trekking ao Refúgio Grey (3a. perna do Circuito W)\n– Café da manhã\, piquenique inclusos\n– Pernoite no Camping do Refúgio Grey (barraca completa em duplas )\nDia 8: Completando o Circuito W\n– Trekking de retorno ao Refugio Paine Grande\n– Café da manhã e piquenique  inclusos\n– Transfer por Catamarã ao Porto de Pudeto\n– Transfer privado da Porto de Pudeto até Punta Arenas\n– Pernoite em Punta Arenas (quartos duplos)\nDia 9: Fim do Roteiro\n\nO itinerário disponível aqui está sujeito à mudanças devido à condições climáticas\, performance do grupo ou mudanças políticas/administrativas do local em questão. \n\n			\n				\n			\n			\n				\n			\n			\n				\n			\n			\n				\n			\n			\n				\n			\n			\n				\n			\n			\n				\n			\n			\n				\n			\n			\n				\n			\n			\n				\n			\n			\n				\n			\n			\n				\n			\n			\n				\n			\n			\n				\n			\n			\n				\n			\n			\n				\n			\n			\n				\n			\n			\n				\n			\n			\n				\n			\n			\n				\n			\n			\n				\n			\n			\n				\n			\n			\n				\n			\n		\n\nCompartilhe:
URL:https://anawanke.com/roteiro/patagonia-chilena-2027/
CATEGORIES:Caminhada,Trekking,Turismo
ATTACH;FMTTYPE=image/jpeg:https://anawanke.com/wp-content/uploads/2024/06/Capas-1.jpg
END:VEVENT
END:VCALENDAR