BEGIN:VCALENDAR
VERSION:2.0
PRODID:-//Ana Wanke - ECPv6.15.20//NONSGML v1.0//EN
CALSCALE:GREGORIAN
METHOD:PUBLISH
X-ORIGINAL-URL:https://anawanke.com
X-WR-CALDESC:Eventos para Ana Wanke
REFRESH-INTERVAL;VALUE=DURATION:PT1H
X-Robots-Tag:noindex
X-PUBLISHED-TTL:PT1H
BEGIN:VTIMEZONE
TZID:America/Sao_Paulo
BEGIN:STANDARD
TZOFFSETFROM:-0300
TZOFFSETTO:-0300
TZNAME:-03
DTSTART:20260101T000000
END:STANDARD
END:VTIMEZONE
BEGIN:VEVENT
DTSTART;TZID=America/Sao_Paulo:20270405T120000
DTEND;TZID=America/Sao_Paulo:20270419T120000
DTSTAMP:20260424T111813
CREATED:20250131T131314Z
LAST-MODIFIED:20251027T184018Z
UID:29299-1806926400-1808136000@anawanke.com
SUMMARY:Nepal e Butão 2027
DESCRIPTION:Conheceremos as mais extremas paisagens do Nepal\, desde deslumbrantes montanhas como o Machapuchare considerada uma das mais belas do planeta\, até incríveis templos medievais em Bhaktapur. Este ano faremos Uma extensão ao país mais feliz do mundo\, o Butão. \nDurante nossos trekkings\, passaremos por pequenos povoados\, onde descansaremos e pernoitaremos. O contato com a cultura exótica e a observação de diversos grupos étnicos são atrações instigantes\, um verdadeiro presente para os participantes deste roteiro\, que serão recebidos com extrema hospitalidade pelos nativos. \nConfira o roteiro e tudo que inclui essa aventura! \n• Dia 1 – Chegada em Katmandu; Reunião com equipe – pernoite em Kathmandu\n• Dia 2 – Bhaktapur (El.1350m): Visita a cidade medieval e templos com guia em espanhol  e jantar típico – pernoite em Kathmandu\n• Dia 3 – Vôo de Kathmandu/Pokhara (El.900m) – Transfer para o início da caminhada. Jhinu (1.700m) – Chomrong (El.2100m): Caminhada de 3 hrs (Passando pela ponte suspensa)\n• Dia 4 – Chomrong (2100m) – Bamboo (El.2300m): Caminhada de 6 hrs\n• Dia 8 – Bamboo (El.2300m) – Deurali (El.3.230m): Caminhada de 6 hrs\n• Dia 9 – Deurali (El.3.230m) – Annapurna BC (El.4.150m): Caminhada de 6 hrs\n• Dia 10 – Annapurna BC (El.4.150m) – Retorno de Helicóptero à Pokhara: pernoite em Pokhara\n• Dia 11 – Voos de Pohkara – Kathmandu – Paro\, Museu Nacional Ta Dzong. Pernoite em Paro\n• Dia 12 – Trekking até o Mosteiro de Tiger’s Nest (Paro Taktsang). Caminhada leva cerca de 2 a 3 horas. Pernoite em Paro\n• Dia 13 – Visitas a Buda Dordenma\, Memorial Chorten\, Mercado Nacional e o Centro de Artes e Ofício. Jantar Típico. Pernoite em Thimphu.\n• Dia 14 – Visita ao Tsechu ou ao Palácio Tashichho Dzong\, retorno à Paro. Voo à Kathmandu. Pernoite em Kathmandu\n• Dia 15 – Dia livre em Kathmandu\n• Dia 16 – Retorno \nO itinerário disponível aqui está sujeito à mudanças devido à condições climáticas\, performance do grupo ou mudanças políticas/administrativas do local em questão. \n\nCompartilhe:
URL:https://anawanke.com/roteiro/nepal-e-annapurna-base-camp-2027/
LOCATION:Annapurna\, Annapurna\, Nepal
CATEGORIES:Caminhada,Montanhismo,Trekking,Turismo
ATTACH;FMTTYPE=image/jpeg:https://anawanke.com/wp-content/uploads/2020/09/Capas.jpg
END:VEVENT
END:VCALENDAR