BEGIN:VCALENDAR
VERSION:2.0
PRODID:-//Ana Wanke - ECPv6.15.20//NONSGML v1.0//EN
CALSCALE:GREGORIAN
METHOD:PUBLISH
X-WR-CALNAME:Ana Wanke
X-ORIGINAL-URL:https://anawanke.com
X-WR-CALDESC:Eventos para Ana Wanke
REFRESH-INTERVAL;VALUE=DURATION:PT1H
X-Robots-Tag:noindex
X-PUBLISHED-TTL:PT1H
BEGIN:VTIMEZONE
TZID:America/Sao_Paulo
BEGIN:STANDARD
TZOFFSETFROM:-0300
TZOFFSETTO:-0300
TZNAME:-03
DTSTART:20250101T000000
END:STANDARD
END:VTIMEZONE
BEGIN:VEVENT
DTSTART;TZID=America/Sao_Paulo:20260101T060000
DTEND;TZID=America/Sao_Paulo:20261231T200000
DTSTAMP:20260423T170206
CREATED:20241120T140556Z
LAST-MODIFIED:20260112T135903Z
UID:27455-1767247200-1798747200@anawanke.com
SUMMARY:Assessoria ao Caminho de Santiago
DESCRIPTION:Você pensa em fazer o Caminho de Santiago\, mas não quer fazer em grupo? Você pode se preparar para fazer o Caminho com muita informação contratando o serviço de assessoria personalizada da Ana Wanke para você fazer seu Caminho com uma estrutura robusta\, escala na qualidade do atendimento e serviços exclusivos. \nO serviço pode ser complementado agregando outros produtos que você pode optar ou não: \n\nReservas de pernoites\nPDFs com o descritivo do dia de caminhada\nDespacho de Bagagem\nAcompanhamento por WhatsApp ao longo do Caminho\n\nMediante o contrato assinado depois do orçamento aprovado\, as seguintes reuniões serão marcadas: \n\nEstudo de etapas do Caminho\nEquipamento\nCuidado com Pés\nDia a Dia no Caminho\nHistória do Caminho de Santiago\n\nCaso tenha interesse\, contate-nos aqui mesmo ou pelo WhatsApp para agendarmos uma entrevista sem compromisso. \n\nCompartilhe:
URL:https://anawanke.com/roteiro/assessoriacs/
LOCATION:Santiago de Compostela\, Santiago de Compostela\, Galícia\, Espanha
CATEGORIES:Montanhismo,Trekking
ATTACH;FMTTYPE=image/jpeg:https://anawanke.com/wp-content/uploads/2024/11/Capas.jpg
END:VEVENT
BEGIN:VEVENT
DTSTART;TZID=America/Sao_Paulo:20260228T060000
DTEND;TZID=America/Sao_Paulo:20260301T200000
DTSTAMP:20260423T170206
CREATED:20170106T203047Z
LAST-MODIFIED:20251226T211801Z
UID:1382-1772258400-1772395200@anawanke.com
SUMMARY:Guaraqueçaba com Salto Morato e Sebuí
DESCRIPTION:Passear na Baía de Guaraqueçaba é algo indescritível\, significa conhecer as áreas naturais que devem ser preservadas pelo ser humano. É passeando na Baia de Guaraqueçaba que se conhece o ecossistema estuarino-lagunar e entende-se sua importância no equilíbrio ecológico da região. \nVisitaremos a Reserva Natural Salto Morato – (RPPN)\, a qual faz parte de uma área de preservação da Mata Atlântica reconhecida pela UNESCO e pertence a Fundação O Boticário de Proteção à Natureza. Com uma paisagem bastante atrativa\, a reserva conta com infraestrutura para receber visitantes e pesquisadores e também a RPPN do Sebuí\, um dos locais mais preservados do nosso litoral com belas cachoeiras. \n\nSábado: O ninho do Guará: Guaraqueçaba!\nSairemos cedo de Curitiba em direção à Paranaguá\, onde nossa lancha estará nos esperando para nos conduzir à Guaraqueçaba. O trajeto de barco privado e rápido está estimado em 50 minutos.\nAo chegar em Guaraqueçaba\, vamos reforçar nosso café da manhã e depois disso seguiremos de van até a entrada da Reserva Natural Salto Morato para nossa caminhada.\nLá dentro caminharemos por trilhas maravilhosas. Conheceremos o famoso Salto Morato\, uma queda d’água de aproximadamente 100 metros. Será uma caminhada tranquila variando de 3 a 4 horas. Nosso almoço será um delicioso piquenique\, com direito a banho de rio. Pernoitaremos em Guaraqueçaba!\nDomingo: Paraíso do Sebui\nSairemos de barco no horário mais propício da maré até a Reserva Particular do Patrimônio Natural Sebuí\, considerada um dos ambientes naturais mais importantes do mundo\, por seu elevado grau de diversidade de animais e plantas\, além de ser um dos locais mais conservados da Mata Atlântica no Brasil. Muitas surpresas lhe aguardam nessa trilha como cachoeiras\, passarelas sobre mangues\, tanques de águas cristalinas entre outras belezas naturais.\nIremos almoçar em um lugar muito especial\, uma localidade ribeirinha na Baía de Paranaguá com direito a ostras e caranguejo. Na sequencia seguiremos de lancha à Paranaguá\, onde nossa van estará nos esperando para nos conduzir diretamente à Curitiba.\n\nDCIM102GOPRO\nCompartilhe:
URL:https://anawanke.com/roteiro/guaraquecaba2026/
LOCATION:Guaraqueçaba\, Guaraqueçaba\, Paraná\, Brasil
CATEGORIES:Caminhada,Trekking,Turismo
ATTACH;FMTTYPE=image/jpeg:https://anawanke.com/wp-content/uploads/2017/01/DSC03569-1.jpg
END:VEVENT
BEGIN:VEVENT
DTSTART;TZID=America/Sao_Paulo:20260307T060000
DTEND;TZID=America/Sao_Paulo:20260308T200000
DTSTAMP:20260423T170206
CREATED:20251223T172737Z
LAST-MODIFIED:20260206T135924Z
UID:46280-1772863200-1773000000@anawanke.com
SUMMARY:Guaraqueçaba com Salto Morato e Sebuí - Turma Extra
DESCRIPTION:Passear na Baía de Guaraqueçaba é algo indescritível\, significa conhecer as áreas naturais que devem ser preservadas pelo ser humano. É passeando na Baia de Guaraqueçaba que se conhece o ecossistema estuarino-lagunar e entende-se sua importância no equilíbrio ecológico da região. \nVisitaremos a Reserva Natural Salto Morato – (RPPN)\, a qual faz parte de uma área de preservação da Mata Atlântica reconhecida pela UNESCO e pertence a Fundação O Boticário de Proteção à Natureza. Com uma paisagem bastante atrativa\, a reserva conta com infraestrutura para receber visitantes e pesquisadores e também a RPPN do Sebuí\, um dos locais mais preservados do nosso litoral com belas cachoeiras. \n\nSábado: O ninho do Guará: Guaraqueçaba!\nSairemos cedo de Curitiba em direção à Paranaguá\, onde nossa lancha estará nos esperando para nos conduzir à Guaraqueçaba. O trajeto de barco privado e rápido está estimado em 50 minutos.\nAo chegar em Guaraqueçaba\, vamos reforçar nosso café da manhã e depois disso seguiremos de van até a entrada da Reserva Natural Salto Morato para nossa caminhada.\nLá dentro caminharemos por trilhas maravilhosas. Conheceremos o famoso Salto Morato\, uma queda d’água de aproximadamente 100 metros. Será uma caminhada tranquila variando de 3 a 4 horas. Nosso almoço será um delicioso piquenique\, com direito a banho de rio. Pernoitaremos em Guaraqueçaba!\nDomingo: Paraíso do Sebui\nSairemos de barco no horário mais propício da maré até a Reserva Particular do Patrimônio Natural Sebuí\, considerada um dos ambientes naturais mais importantes do mundo\, por seu elevado grau de diversidade de animais e plantas\, além de ser um dos locais mais conservados da Mata Atlântica no Brasil. Muitas surpresas lhe aguardam nessa trilha como cachoeiras\, passarelas sobre mangues\, tanques de águas cristalinas entre outras belezas naturais.\nIremos almoçar em um lugar muito especial\, uma localidade ribeirinha na Baía de Paranaguá com direito a ostras e caranguejo. Na sequencia seguiremos de lancha à Paranaguá\, onde nossa van estará nos esperando para nos conduzir diretamente à Curitiba.\n\n\nCompartilhe:
URL:https://anawanke.com/roteiro/guaraquecaba-extra/
LOCATION:Guaraqueçaba\, Guaraqueçaba\, Paraná\, Brasil
CATEGORIES:Caminhada,Trekking,Turismo
ATTACH;FMTTYPE=image/jpeg:https://anawanke.com/wp-content/uploads/2025/12/Capas.jpg
END:VEVENT
BEGIN:VEVENT
DTSTART;TZID=America/Sao_Paulo:20260314T060000
DTEND;TZID=America/Sao_Paulo:20260315T210000
DTSTAMP:20260423T170206
CREATED:20210126T183046Z
LAST-MODIFIED:20260303T123301Z
UID:15474-1773468000-1773608400@anawanke.com
SUMMARY:Travessia Ilha das Peças a Superagui 2026
DESCRIPTION:Imagine uma região praticamente intocada com belas paisagens naturais incluindo montanhas cobertas de florestas emoldurando praias desertas de areias finas\, canais de águas calmas banhando manguezais e contornado suavemente várias ilhas. Parece a descrição de um paraíso\, mas essa mistura toda se chama Lagamar e compõe um imenso estuário que incluí a Baía do Paranaguá (PR) até os municípios de Iguape e Cananéia (SP). Esse complexo é considerado um dos maiores criadouros de espécies marinhas do Atlântico Sul\, além de conter o maior trecho contínuo de Mata Atlântica do país. \n\nSábado: Ilha das Peças \nSairemos de Curitiba bem cedinho de van para fazer a travessia de barco até a Ilha das Peças.\nSairemos bem cedo para podermos caminhar sem o sol forte e também para que os botos possam nos acompanhar no início da caminhada que será de 12 km por praias desertas até chegar em frente da vila de Superagui\, onde o nosso barco fará nossa travessia. Por isso se quiser deixar algum peso extra no barco que não queira carregar\, fique a vontade!\nTeremos um almoço tardio e descansaremos em nossa pousada pé na areia.\nA noite faremos uma caminhada a beira do mar para tentar visualizar o fenômeno da bioluminescência  e contar belas histórias das ilhas ao nosso redor!\nDomingo: Ilha de Superagui\nNesse dia estará reservado para conhecermos a praia deserta de Superagui pela manhã. Iremos caminhar cerca de 10 km. Esta é uma das regiões mais bonitas de todo nosso litoral\, com dunas\, lagoas e praias praticamente selvagens\, onde o turismo de massa ainda não chegou.\n\nObservações:\n– O itinerário disponível aqui está sujeito à mudanças devido à condições climáticas\, performance do grupo ou mudanças políticas/administrativas do local em questão.\n– Qualquer dúvida adicional estamos a disposição para esclarecimentos. Envie-nos uma mensagem com suas dúvidas que estaremos prontos para responder.  \n\nCompartilhe:
URL:https://anawanke.com/roteiro/travessia-ilhas26/
LOCATION:Ilhas das Peças\, Peças e Superagui (PR)\, Baía de paranaguá\, Paraná\, Brasil
CATEGORIES:Caminhada,Trekking,Turismo
ATTACH;FMTTYPE=image/jpeg:https://anawanke.com/wp-content/uploads/2026/01/Capas-3-1.jpg
END:VEVENT
END:VCALENDAR