BEGIN:VCALENDAR
VERSION:2.0
PRODID:-//Ana Wanke - ECPv6.15.20//NONSGML v1.0//EN
CALSCALE:GREGORIAN
METHOD:PUBLISH
X-WR-CALNAME:Ana Wanke
X-ORIGINAL-URL:https://anawanke.com
X-WR-CALDESC:Eventos para Ana Wanke
REFRESH-INTERVAL;VALUE=DURATION:PT1H
X-Robots-Tag:noindex
X-PUBLISHED-TTL:PT1H
BEGIN:VTIMEZONE
TZID:America/Sao_Paulo
BEGIN:STANDARD
TZOFFSETFROM:-0300
TZOFFSETTO:-0300
TZNAME:-03
DTSTART:20250101T000000
END:STANDARD
END:VTIMEZONE
BEGIN:VEVENT
DTSTART;TZID=America/Sao_Paulo:20260101T060000
DTEND;TZID=America/Sao_Paulo:20261231T200000
DTSTAMP:20260423T202559
CREATED:20241120T140556Z
LAST-MODIFIED:20260112T135903Z
UID:27455-1767247200-1798747200@anawanke.com
SUMMARY:Assessoria ao Caminho de Santiago
DESCRIPTION:Você pensa em fazer o Caminho de Santiago\, mas não quer fazer em grupo? Você pode se preparar para fazer o Caminho com muita informação contratando o serviço de assessoria personalizada da Ana Wanke para você fazer seu Caminho com uma estrutura robusta\, escala na qualidade do atendimento e serviços exclusivos. \nO serviço pode ser complementado agregando outros produtos que você pode optar ou não: \n\nReservas de pernoites\nPDFs com o descritivo do dia de caminhada\nDespacho de Bagagem\nAcompanhamento por WhatsApp ao longo do Caminho\n\nMediante o contrato assinado depois do orçamento aprovado\, as seguintes reuniões serão marcadas: \n\nEstudo de etapas do Caminho\nEquipamento\nCuidado com Pés\nDia a Dia no Caminho\nHistória do Caminho de Santiago\n\nCaso tenha interesse\, contate-nos aqui mesmo ou pelo WhatsApp para agendarmos uma entrevista sem compromisso. \n\nCompartilhe:
URL:https://anawanke.com/roteiro/assessoriacs/
LOCATION:Santiago de Compostela\, Santiago de Compostela\, Galícia\, Espanha
CATEGORIES:Montanhismo,Trekking
ATTACH;FMTTYPE=image/jpeg:https://anawanke.com/wp-content/uploads/2024/11/Capas.jpg
END:VEVENT
BEGIN:VEVENT
DTSTART;TZID=America/Sao_Paulo:20260704T140000
DTEND;TZID=America/Sao_Paulo:20260710T220000
DTSTAMP:20260423T202559
CREATED:20250312T131110Z
LAST-MODIFIED:20260408T131642Z
UID:26952-1783173600-1783720800@anawanke.com
SUMMARY:Volta à Ilha de Floripa
DESCRIPTION:A Ilha de Santa Catarina é uma das mais belas do Brasil\, aonde está situada a capital catarinense\, Florianópolis. Conhecida por suas 42 (pelo menos…) praias paradisíacas\, culinária açoriana e vida agitada na temporada. \nIremos fazer o melhor da volta à ilha\, caminhando por 102 km em 7 dias com carro de apoio (que levará nossa bagagem)\, passando pelas mais belas praias\, algumas acessadas apenas por trilha\, as primeiras vilas açorianas\, praias badaladas e regiões pouco conhecidas. Passaremos pelo Caminho de Santiago Brasileiro\, reconhecido pela Catedral de Santiago de Compostela como complementar ao Caminho de Santiago Inglês. Caminharemos por trilhas\, praias e asfalto. \nEste é um roteiro muito esperado\, portanto não deixe pra última hora porque as vagas vão se esgotar em breve!! \n\n1º dia – saída de Curitiba de van e pernoite em Florianópolis. Iremos passar por em Santo Antonio de Lisboa e desfrutar do mais belo pôr do sol de Floripa. Em seguida iremos para nosso hotel.\n2º dia – início da caminhada. De Daniela a Praia Brava\, 26 km. Neste dia passaremos pelas praias de Daniela\, Praia do Forte\, Jurerê\, Canasvieiras\, Ponta das Canas\, Lagoinha do Norte e Brava. Caminharemos por algumas trilhas\, mas será um dia bem urbano\, pelas praias agitadas do norte da ilha.\n3º dia – Brava a Barra da Lagoa 25 km. Iniciaremos o dia caminhando pela Trilha do Morro da Feiticeira\, chegando em Ingleses. Em seguida passaremos pela praia do Santinho\, seguindo pelo costão até a praia de Moçambique. Este será um longo trecho de praia para em seguida pegarmos uma estrada da Reserva Florestal até chegarmos à Barra da Lagoa.\n4º dia – Barra da Lagoa à Campeche 18 km. Sairemos da Barra da Lagoa por uma trilha até a Praia da Galheta e praia Mole. Em seguida pegaremos uma trilha pelo Morro do Gravatá e seguiremos para a Praia da Joaquina\, onde caminharemos pelas areias até o Campeche.\n5º dia – Campeche à Praia da Armação 12 km. Começamos nossa tour pelas praias do sul da ilha.  Passaremos pela Lagoa do Peri até chegarmos à praia da Armação. Como será um dia de caminhada curta aproveitaremos para descansar na piscina do hotel\, ou na praia…\n6º dia – Armação à Pântano do Sul 12 km. Será o dia de pouca quilometragem\, mas um dia de caminhada exclusivamente por trilhas\, ou seja\, não será tão fácil! Praia da Armação\, Matadeiro e a trilha pelos costões até uma das mais famosas praias de Floripa\, Lagoinha do Leste. Praia deserta e paradisíaca\, de lá teremos uma subida forte até Pântano do Sul aonde almoçaremos num dos restaurantes mais famosos e tradicionais da Ilha\, o Bar do Arante.\n7º dia – Pântano do Sul à Caiera 13 km. Dia de caminhada pesada\, por trilhas entre Pântano do Sul até a Praia de Naufragados\, praia no extremo sul da ilha e acessada apenas por trilha. Voltaremos a “civilização” em Caieira da Barra Sul\, onde embarcaremos na van até chegarmos em Ribeirão da Ilha\, um lugar mágico que nos levará ao início da colonização açoriana da ilha. Almoçaremos nos renomados restaurantes da região. Após o almoço retorno à Curitiba\n\n \n\nCompartilhe:
URL:https://anawanke.com/roteiro/volta-a-ilha/
LOCATION:Florianópolis\, Florianópolis\, Santa Catarina\, Brasil
CATEGORIES:Caminhada,Trekking,Turismo
ATTACH;FMTTYPE=image/jpeg:https://anawanke.com/wp-content/uploads/2025/03/Capas.jpg
END:VEVENT
BEGIN:VEVENT
DTSTART;TZID=America/Sao_Paulo:20260724T100000
DTEND;TZID=America/Sao_Paulo:20260726T220000
DTSTAMP:20260423T202559
CREATED:20220609T140440Z
LAST-MODIFIED:20260417T185859Z
UID:21267-1784887200-1785103200@anawanke.com
SUMMARY:Pico do Rinoceronte e Cânion do Funil
DESCRIPTION:Neste roteiro iremos conhecer várias atrações encantadoras da serra catarinense: o Pico do Rinoceronte\, Cânion do Funil e a famosa Serra do Rio do Rastro\, uma verdadeira obra prima da engenharia e da natureza. Iremos explorar a bela Serra Geral catarinense\, com suas vistas da planície\, cânions impressionantes e maravilhosas formações rochosas. \n\nDia 1 (sexta-feira): Sairemos de Curitiba 10h00 e nos deslocaremos até nosso hotel em Bom Jardim da Serra. \nDia 2 (sábado): Iremos acordar cedo e logo após o café da manhã partiremos para o hiking ao Pico do Rinoceronte. A caminhada de cerca de 14 km (7 para ir e 7 para voltar) é moderada superior\, por trilhas e campos de altitude. A formação rochosa do Pico do Rinoceronte ganhou este nome por lembrar a silhueta da cabeça do animal\, conforme o ângulo de observação. Fica bem na borda da Serra Geral. A parte superior composta por campos pertence ao município de Bom Jardim da Serra\, já da borda do penhasco para baixo pertence ao município de Siderópolis\, onde a mata serrana é que domina a paisagem. A vista da chegada é fantástica\, assim como a vista de cima das pedras do pico. Pode-se observar a planície litorânea de Santa Catarina\, com destaque para a Barragem do Rio São Bento\, e as cidades de Criciúma\, Nova Veneza e Siderópolis. Faremos nosso piquenique desfrutando destas paisagens belíssimas.  Retorno para Bom Jardim da Serra e jantar na cidade.\nDia 3 (domingo): Será o dia da nossa caminhada no Cânion do funil. É um dos cânions mais bonitos da Serra Geral\, e junto com o Cânion das Laranjeiras e da Ronda formam uma trinca de belezas exuberantes na região próxima a Serra do Rio do Rastro. Faremos uma trilha de 4 km (2 para ir e 2 para voltar) por campos de altitude até a borda do cânion. A caminhada é praticamente no plano. Em seguida iremos retornar para Curitiba descendo pela estrada da Serra do Rio do Rastro\, que é um dos principais atrativos da região.\n\nDCIM105GOPROGOPR9396.JPG\nCompartilhe:
URL:https://anawanke.com/roteiro/pico_do_rinoceronte26/
LOCATION:Bom Jardim da Serra (SC)\, Bom Jardim da Serra\, Santa Catarina\, Brasil
CATEGORIES:Caminhada,Montanhismo,Trekking
ATTACH;FMTTYPE=image/jpeg:https://anawanke.com/wp-content/uploads/2022/01/Copia-de-MARCO-2021-3.jpg
END:VEVENT
END:VCALENDAR