BEGIN:VCALENDAR
VERSION:2.0
PRODID:-//Ana Wanke - ECPv6.15.20//NONSGML v1.0//EN
CALSCALE:GREGORIAN
METHOD:PUBLISH
X-WR-CALNAME:Ana Wanke
X-ORIGINAL-URL:https://anawanke.com
X-WR-CALDESC:Eventos para Ana Wanke
REFRESH-INTERVAL;VALUE=DURATION:PT1H
X-Robots-Tag:noindex
X-PUBLISHED-TTL:PT1H
BEGIN:VTIMEZONE
TZID:America/Sao_Paulo
BEGIN:STANDARD
TZOFFSETFROM:-0300
TZOFFSETTO:-0300
TZNAME:-03
DTSTART:20260101T000000
END:STANDARD
END:VTIMEZONE
BEGIN:VEVENT
DTSTART;TZID=America/Sao_Paulo:20270612T080000
DTEND;TZID=America/Sao_Paulo:20270624T150000
DTSTAMP:20260424T115230
CREATED:20260122T171847Z
LAST-MODIFIED:20260122T173245Z
UID:47369-1812787200-1813849200@anawanke.com
SUMMARY:Caminho de Maria Madalena 2027
DESCRIPTION:O Caminho de Maria Madalena é uma das mais recentes rotas de peregrinação e vamos percorrê-la com grupo reduzido e bem estruturado. \nO Caminho de Maria Madalena oferece a oportunidade de seguir os passos de Santa Maria Madalena. Iniciaremos nassa peregrinação no santuário de Notre-Dame-de-la-Mer em Saintes-Maries-de-la-Mer e chegaremos caminhando na basílica de Santa Maria Madalena em Saint-Maximin-la-Sainte-Baume\, onde encontram-se os restos mortais de Maria Madalena. \nPercorreremos 220  quilômetros\, divididos em 10 etapas\, atravessando as paisagens esplêndidas das regiões de Camargue e Provence. Optamos por não cruzar a grande cidade de Marselle caminhando. Em vez disso teremos um “day off” e além de visitaremos alguns pontos interessantes da cidade\, descansaremos para o sprint final do roteiro. \nAcredita-se que esta rota de peregrinação tenha sido percorrida por Santa Maria Madalena. Ela foi uma figura próxima a Jesus Cristo que\, segundo as Escrituras\, foi a primeira a vê-Lo após Sua ressurreição. \nDe acordo com a tradição\, alguns dos amigos e seguidores de Jesus escaparam da perseguição na Terra Santa e eventualmente chegaram à região sul da França.\nPadroeira da Provence\, Santa Maria Madalena chegou no litoral francês numa jangada sem remos. E em sua companhia estavam São Máximo\, Santa Maria Jacobé e Santa Maria Salomé\, assim como Santa Sara (Santa padroeira dos ciganos). \nDescrição do Roteiro:\n1º Dia: Trem para Marselha. Transfer para Saintes Maries de la Mer. Pernoite em Saintes Maries de la Mer.\n2º Dia: Início do Caminho de Maria Madalena! Percorremos 24 km neste dia no plano\, passando por uma linda paisagem de reserva natural.\n3º Dia:  Caminharemos 16 km\n4º Dia: Caminharemos 13\,5 km\n5º Dia: Caminharemos 14 km\n6º Dia: Caminharemos 18 km\n7º Dia: Caminharemos 20\,5 km\n8º Dia: Caminharemos 15\,5 km\n9º Dia: Day off em Marselle. Optamos por não cruzar a cidade caminhando. Em vez disso visitaremos alguns pontos interessantes da cidade e descansaremos para o sprint final do roteiro.\n10º Dia: Caminharemos 18 km\n11º Dia: Caminharemos 21\,5 km\n12º Dia: Ultimo dia de caminhada!! Caminharemos 13 km\,  e superaremos os maiores desníveis da nossa caminhada. Primeiro passaremos pela Capela de Saint Pilon e depois chegaresmo a Gruta de Sainte Marie-Madeleine. Visita à Basílica de Saint Maximin la Saint Baume\, que abriga as relíquias de Maria Madalena.\n13º Dia: Trem para Paris e fim do roteiro \nVenha conosco:\nNossa turma será reduzida\, porque o Caminho ainda não possui muita estrutura.\nPor isso teremos 2 guias e um carro de apoio\, que també fará o transporte de bagagem.\nE aí\, ficou curioso? Venha percorrê-lo comigo em 2026! \n\n  \n  \nCompartilhe:
URL:https://anawanke.com/roteiro/caminho-de-maria-madalena-2027/
CATEGORIES:Caminhada,Turismo
ATTACH;FMTTYPE=image/jpeg:https://anawanke.com/wp-content/uploads/2024/01/Capas-2.jpg
END:VEVENT
BEGIN:VEVENT
DTSTART;TZID=America/Sao_Paulo:20270626T120000
DTEND;TZID=America/Sao_Paulo:20270703T120000
DTSTAMP:20260424T115231
CREATED:20170106T210337Z
LAST-MODIFIED:20260317T133112Z
UID:1380-1814011200-1814616000@anawanke.com
SUMMARY:Provence Secrète 2027
DESCRIPTION:Vamos passear pelos bucólicos vilarejos da Provence para ver paisagens de cartões postais\, provar aromas e sabores indescritíveis e voltar para casa com mais um sonho realizado!\nEm Provence há uma natureza sem sobressaltos\, onde o céu é quase sempre azul sobre um relevo harmonioso. Cada povoado reserva pequenas surpresas que podemos descobrir bem de perto: rios antigos que cavaram gargantas na rocha arenosa de onde surge um lago de azul turquesa. \n\n1º dia (26/06/2027): Chegada à Provença\nChegada na Estação de trem TGV Centre\nCheck in no Hotel de Avignon\nTour a pé pelo centro histórico de Avignon\, sede do Papado de 1309 e 1377\n2º dia (27/06/27): Provença Histórica\nVisita à Ponte de Avignon e Palacio dos Papas (Avignon)\nCheck out do Hotel em Avignon\nPasseio por Le Baux de Provence com tempo para compras\nVisita ao Castelo Medieval encrustrado no massivo dos Alpilles\nVisita ao Carrière de Lummière\, um espetáculo de música\, luzes e cores dentro de uma pedreira desativada\nCheck in do Hotel em Apt\n3º dia (28/06/27): Vistas da Provence\nPasseio por campos de lavandas\, com loja de produtos artesanais\nVisita ao lindo vilarejo de Bonniex\, com sua vista privilegiada dos vinhedos\, plantações de lavanda e olivais\nPasseio pela Floresta de Cedros\, com a vista do outro lado dos Alpes da Alta Provence\nVisita aos Campos de Trigo\, Visita a Lourmarin\, um encanto de lugarejo\, cheio de cafés\, restaurantes e lojas típicas provençais.\n4º dia (29/06/27): Cartão Postal da Provence}\nVisita a feira livre de Gordes\, a melhor feira livre da Provence num vilarejo que é um sonho!\nVisita guiada (e privada para o nosso grupo) na Abadia de Senanque\, o Cartão Postal da Provence\n5º dia (30/06/27): Degustando a Provence\nVisita ao Museu da Lavanda\nVisita pelos bucólicos vilarejos de Lacoste e Menerbes\nDegustação de Vinhos da região\n6º dia (01/07/27): Cores da Provence\nPasseio por Oppedde le Vieux\, um vilarejo medieval recém redescoberto e está sendo restaurado\nVisita ao vilarejo de Fontaine de Vaucluse\, cortada pelo Rio La Sorge\, que dá um tom de verde esmeralda ao roteiro\nVisita à Rossillon\, que nos encanta pelas suas falésias e casas na cor ocre e suas lojas provençais\nVisita ao Sentier des Ocres\, a trilha dos ocres\, são 30 minutos numa paisagem extraordinária onde os vários tons de ocre contrastam com o verde da vegetação\n7º dia (02/07/27): Provence Secretè\nVisita a campos de lavandas e girassóis mais famosos da Provence\, em Valensole\nPedalinho e piquenique no Lago de Sainte Croix\, formado pelas águas do rio Verdon de cor turquesa\nPasseio pela Garganta do Verdon\, um impressionante desfiladeiro formado pelo rio Verdon\nVisita a cidade da Faiança Moustier Saint Marie\n8º dia (03/07/27): Au revoir Provence\nCheck out do Hotel em Apt\nTransfer do Hotel à Estação de trem TGV Avignon – Fim do roteiro\n\nDCIM102GOPRO\nCompartilhe:
URL:https://anawanke.com/roteiro/provence-secrete-2027/
LOCATION:Provence\, Menerbes\, France
CATEGORIES:Turismo
ATTACH;FMTTYPE=image/jpeg:https://anawanke.com/wp-content/uploads/2017/01/IMG_7632-Copia.jpg
END:VEVENT
END:VCALENDAR