BEGIN:VCALENDAR
VERSION:2.0
PRODID:-//Ana Wanke - ECPv6.15.20//NONSGML v1.0//EN
CALSCALE:GREGORIAN
METHOD:PUBLISH
X-ORIGINAL-URL:https://anawanke.com
X-WR-CALDESC:Eventos para Ana Wanke
REFRESH-INTERVAL;VALUE=DURATION:PT1H
X-Robots-Tag:noindex
X-PUBLISHED-TTL:PT1H
BEGIN:VTIMEZONE
TZID:America/Sao_Paulo
BEGIN:STANDARD
TZOFFSETFROM:-0300
TZOFFSETTO:-0300
TZNAME:-03
DTSTART:20250101T000000
END:STANDARD
END:VTIMEZONE
BEGIN:VEVENT
DTSTART;TZID=America/Sao_Paulo:20260410T140000
DTEND;TZID=America/Sao_Paulo:20260412T200000
DTSTAMP:20260423T170604
CREATED:20260227T124544Z
LAST-MODIFIED:20260330T110725Z
UID:49003-1775829600-1776024000@anawanke.com
SUMMARY:Cananéia e Ilha do Cardoso
DESCRIPTION:Visitaremos  linda e preservada cidade histórica de Cananéia\, em seguida passaremos o final de semana na paradisíaca Ilha do Cardoso \nA Ilha do Cardoso integra a maior área contínua de Floresta Atlântica do Brasil e está inserido no Complexo Estuarino-Lagunar de Iguape\, Cananéia e Paranaguá\, considerado pela União Internacional de Conservação da Natureza (IUCN) como o terceiro estuário do mundo em termos de produtividade primária e um dos mais bem preservados\, o que lhe confere prioridade na conservação. A região ainda é reconhecida como Sítio do Patrimônio Mundial Natural (UNESCO\, 1999) e  Zona Núcleo da Reserva da Biosfera (UNESCO\, 2005).\n\nSexta-feira:Ilha do Cardoso integra a maior área contínua de Floresta Atlântica do Brasil e está inserido no Complexo Estuarino-Lagunar de Iguape\, Cananéia e Paranaguá\, considerado pela União Internacional de Conservação da Natureza (IUCN) como o terceiro estuário do mundo em termos de produtividade primária e um dos mais bem preservados\, o que lhe confere prioridade na conservação. A região ainda é reconhecida como Sítio do Patrimônio Mundial Natural (UNESCO\, 1999) e  Zona Núcleo da Reserva da Biosfera (UNESCO\, 2005).\nSexta-feira: Sairemos do centro de Curitiba de van em direção à Cananéia\, onde dormiremos. Cananéia é uma linda e preservada cidade histórica. Embora o título oficial de primeira cidade do Brasil pertença a São Vicente\, os historiadores são unânimes em reverter os louros à Cananéia. Conta a história que\, em 1531\, o português Martim Afonso de Souza veio ao Brasil para fixar uma colônia projetada. Mas\, quando parou em Cananéia\, encontrou um vilarejo já erguido por um degredado do reino de Portugal\, o mestre Gomes Fernandes\, que vivia ali desde 1502\, casado com a índia Caniné – daí o nome Cananéia.\nSábado: Para quem quiser e tiver disposição pode-se assistir ao espetáculo do nascer do sol. Após o café da manhã pegaremos um barco rápido para a exuberante Ilha do Cardoso\, que\, além de ser praticamente toda coberta por Mata Atlântica intocada\, ainda preserva vestígios históricos como os argolões onde Martim Afonso atracava suas caravelas e o marco de pedra\, em forma de cruz\, que assinala a posse do lugar pela coroa portuguesa (Tratado de Tordesilhas). Chegaremos no Marujá e depois de instalados na nossa pousada faremos uma linda caminhada\, passando por praias\, mata e tomando banho de mar e rio. Iremos até a Praia da Laje e no retorno faremos um passeio de caiaque de aprox. 50 minutos voltando para Marujá. Quem não quiser remar poderá voltar no barco de apoio. Voltaremos em tempo de apreciar o pôr do sol junto ao píer de Marujá.\nDomingo: Vamos deixar o Marujá\, mas antes visitaremos de barco a Vila abandonada de Ararapira\, mais conhecida como “Cidade Fantasma”. Iremos retornar pelo canal do varadouro\, aberto pelo exército nos anos 1950 para auxiliar a navegação entre Cananéia e Paranaguá por águas abrigadas. Almoçaremos frutos do mar em um restaurante muito especial na comunidade de Barbados\, já na baía de Paranaguá. Logo após navegaremos até Paranaguá onde retornaremos de van à Curitiba.\n\nBora lá conosco?\n\n\n\n\n\nCompartilhe:
URL:https://anawanke.com/roteiro/cananeia-e-ilha-do-cardoso/
CATEGORIES:Caminhada,Turismo
ATTACH;FMTTYPE=image/jpeg:https://anawanke.com/wp-content/uploads/2025/12/Capas-3.jpg
END:VEVENT
END:VCALENDAR