BEGIN:VCALENDAR
VERSION:2.0
PRODID:-//Ana Wanke - ECPv6.15.20//NONSGML v1.0//EN
CALSCALE:GREGORIAN
METHOD:PUBLISH
X-ORIGINAL-URL:https://anawanke.com
X-WR-CALDESC:Eventos para Ana Wanke
REFRESH-INTERVAL;VALUE=DURATION:PT1H
X-Robots-Tag:noindex
X-PUBLISHED-TTL:PT1H
BEGIN:VTIMEZONE
TZID:America/Sao_Paulo
BEGIN:STANDARD
TZOFFSETFROM:-0300
TZOFFSETTO:-0300
TZNAME:-03
DTSTART:20250101T000000
END:STANDARD
END:VTIMEZONE
BEGIN:VEVENT
DTSTART;TZID=America/Sao_Paulo:20260303T190000
DTEND;TZID=America/Sao_Paulo:20260303T213000
DTSTAMP:20260423T203341
CREATED:20230609T153342Z
LAST-MODIFIED:20251226T211519Z
UID:23282-1772564400-1772573400@anawanke.com
SUMMARY:Oficina de Cuidado com os Pés
DESCRIPTION:O pé é a parte do nosso corpo que suporta todo o peso do nosso corpo e o impacto durante a caminhada. Por isso além de um bom condicionamento físico temos que preparar nossos pés para nos levar até Santiago Santiago de Compostela ou para uma boa caminhada no parque! \nNosso encontro será mais que uma simples exposição\, vamos colocar as mãos nos pés para quem quer aprender técnicas para cuidar dos seus pés antes\, durante e depois de longas caminhadas. \nAprenderemos técnicas diversas para evitar bolhas nos pés\, fungos\, técnicas de massagens para aliviar as dores\, além de conhecer vários produtos disponíveis no mercado. \nO curso é presencial e será ministrado em um único dia\, com duração prevista de 2 horas\, onde serão ministrados conteúdos de forma teóricas e prática\, supervisionada pela instrutora Ana Wanke. \nA turma terá no máximo 20 pessoas. Os materiais usados no curso como cremes\, fitas adesivas entre outros materiais\, serão fornecidos sem custo adicional. \n\nCompartilhe:
URL:https://anawanke.com/roteiro/oficina-de-cuidado-com-os-pes/
LOCATION:Refugio Alta Montanha\, R. Fagundes Varela\, 1313\, Curitiba\, Paraná\, 82520-040\, Brasil
CATEGORIES:Caminhada,Palestras,Workshops
ATTACH;FMTTYPE=image/jpeg:https://anawanke.com/wp-content/uploads/2023/06/Capas.jpg
END:VEVENT
END:VCALENDAR