BEGIN:VCALENDAR
VERSION:2.0
PRODID:-//Ana Wanke - ECPv6.15.20//NONSGML v1.0//EN
CALSCALE:GREGORIAN
METHOD:PUBLISH
X-WR-CALNAME:Ana Wanke
X-ORIGINAL-URL:https://anawanke.com
X-WR-CALDESC:Eventos para Ana Wanke
REFRESH-INTERVAL;VALUE=DURATION:PT1H
X-Robots-Tag:noindex
X-PUBLISHED-TTL:PT1H
BEGIN:VTIMEZONE
TZID:America/Sao_Paulo
BEGIN:STANDARD
TZOFFSETFROM:-0300
TZOFFSETTO:-0300
TZNAME:-03
DTSTART:20250101T000000
END:STANDARD
END:VTIMEZONE
BEGIN:VEVENT
DTSTART;TZID=America/Sao_Paulo:20260101T060000
DTEND;TZID=America/Sao_Paulo:20261231T200000
DTSTAMP:20260423T140819
CREATED:20241120T140556Z
LAST-MODIFIED:20260112T135903Z
UID:27455-1767247200-1798747200@anawanke.com
SUMMARY:Assessoria ao Caminho de Santiago
DESCRIPTION:Você pensa em fazer o Caminho de Santiago\, mas não quer fazer em grupo? Você pode se preparar para fazer o Caminho com muita informação contratando o serviço de assessoria personalizada da Ana Wanke para você fazer seu Caminho com uma estrutura robusta\, escala na qualidade do atendimento e serviços exclusivos. \nO serviço pode ser complementado agregando outros produtos que você pode optar ou não: \n\nReservas de pernoites\nPDFs com o descritivo do dia de caminhada\nDespacho de Bagagem\nAcompanhamento por WhatsApp ao longo do Caminho\n\nMediante o contrato assinado depois do orçamento aprovado\, as seguintes reuniões serão marcadas: \n\nEstudo de etapas do Caminho\nEquipamento\nCuidado com Pés\nDia a Dia no Caminho\nHistória do Caminho de Santiago\n\nCaso tenha interesse\, contate-nos aqui mesmo ou pelo WhatsApp para agendarmos uma entrevista sem compromisso. \n\nCompartilhe:
URL:https://anawanke.com/roteiro/assessoriacs/
LOCATION:Santiago de Compostela\, Santiago de Compostela\, Galícia\, Espanha
CATEGORIES:Montanhismo,Trekking
ATTACH;FMTTYPE=image/jpeg:https://anawanke.com/wp-content/uploads/2024/11/Capas.jpg
END:VEVENT
BEGIN:VEVENT
DTSTART;TZID=America/Sao_Paulo:20260425T060000
DTEND;TZID=America/Sao_Paulo:20260501T190000
DTSTAMP:20260423T140819
CREATED:20250209T212819Z
LAST-MODIFIED:20260327T134330Z
UID:29599-1777096800-1777662000@anawanke.com
SUMMARY:Caminho da Fé desde Paraisópolis
DESCRIPTION:Iremos percorrer o trecho desde Paraisópolis (MG) até o Santuário Nacional de Aparecida\, cruzando a Serra da Mantiqueira e a Estrada de Pedrinhas\, pelo Caminho da Fé. \nEste é o caminho no Brasil que mais se assemelha ao Caminho de Santiago na Espanha. \nNeste caminho a hospedagem é simples a comida é caseira\, a caminhada é longa e a recompensa é Divina! \n\nSábado: Deslocamento de Curitiba (PR) a Paraisópolis (MG)\, com parada no Aeroporto de Guarulhos (SP).\nDomingo: Percorreremos cerca de 23 km de Paraisópolis até a Luminosa\, com acompanhamento de carro de apoio. Nosso pernoite é em pousada de peregrinos\, com dormitório coletivo.\nSegunda-feira: Percorreremos cerca de 18 km até a Pousada Barão Montês\, com lanche de trilha incluso. Esse é o dia da Subida da Luminosa. O pernoite é em alojamento coletivo.\nTerça-feira: Percorreremos cerca de 24 km até Campos do Jordão. Ficaremos em quartos duplos e triplos\, do ladinho da Cervejaria Baden Baden!!\nQuarta-feira: Percorreremos cerca de 27 km\, descendo pela linda e famosa Estrada de Pedrinhas. Chegaremos numa pousada onde passa um rio onde poderemos ficar com os pés na água descansando.\nQuinta-feira: Percorreremos cerca de 24 km até chegarmos ao Santuário Nacional de Aparecida. Lá assistiremos a missa (opcional) e teremos tempo para visitar o local\, almoçarmos e retirarmos o certificado de conclusão do Caminho da Fé. Pernoite em Aparecida.\nSexta-feira: Retorno à Curitiba após café da manhã.\n\nO Caminho da Fé (Brasil)\, inspirado no milenar Caminho de Santiago de Compostela (Espanha)\, foi criado para dar estrutura às pessoas que sempre fizeram peregrinação ao Santuário Nacional de Aparecida\, oferecendo-lhes os necessários pontos de apoio. Venha caminhar e se emocionar nessa jornada com apoio\, segurança e comodidade da estrutura que a Ana Wanke Turismo e Aventura costuma lhe oferecer. \n\nCompartilhe:
URL:https://anawanke.com/roteiro/caminho-da-fe-desde-paraisopolis/
LOCATION:Santuário Nacional de Aparecida\, Aparecida\, São Paulo\, Brasil
CATEGORIES:Caminhada
ATTACH;FMTTYPE=image/jpeg:https://anawanke.com/wp-content/uploads/2017/02/COLONIA.jpg
END:VEVENT
BEGIN:VEVENT
DTSTART;TZID=America/Sao_Paulo:20260509T063000
DTEND;TZID=America/Sao_Paulo:20260509T183000
DTSTAMP:20260423T140819
CREATED:20220102T142851Z
LAST-MODIFIED:20260415T142343Z
UID:19566-1778308200-1778351400@anawanke.com
SUMMARY:Caminhada das Lavandas 2026
DESCRIPTION:Na véspera do dia das mães\, a caminhada será nos Campos Gerais\, em meio a cultura holandesa. Caminharemos cerca de 7 km com carro de apoio e no final da caminhada visitaremos um lindo campo de lavandas. Você se sentirá na Provence em plena florada de lavandas! Teremos oportunidade de comprar queijos artesanais de alto padrão e produtos a base de lavanda. \nNosso almoço será um misto entre a culinária holandesa e hindonesiana. A indonésia fez parte do Império Colonial Holandês por três séculos e sua cultura se vê refletida na influência culinária. \nApós o almoço visitaremos outro lavandário\, onde teremos uma aula sobre os tipos de lavandas e mais oportunidades de ver\, sentir e fotografar as lavandas. Também aqui teremos a oportunidade de comprar produtos a base de lavandas e saborear um delicioso sorvete de lavanda. \nSerá uma delícia de roteiro\, passando pela Holanda\, França e Indonésia sem mesmo sair do Paraná!! \n\n\nCompartilhe:
URL:https://anawanke.com/roteiro/caminhada-das-lavandas2026/
LOCATION:Carambeí\, Carambeí\, Paraná\, Brasil
CATEGORIES:Caminhada,Turismo
ATTACH;FMTTYPE=image/jpeg:https://anawanke.com/wp-content/uploads/2022/01/MARCO-2021.jpg
END:VEVENT
BEGIN:VEVENT
DTSTART;TZID=America/Sao_Paulo:20260514T130000
DTEND;TZID=America/Sao_Paulo:20260622T100000
DTSTAMP:20260423T140819
CREATED:20231026T183239Z
LAST-MODIFIED:20260419T210258Z
UID:24032-1778763600-1782122400@anawanke.com
SUMMARY:Caminho de Santiago Francês Completo 2026
DESCRIPTION:Venha descobrir o Caminho de Santiago com Ana Wanke\, uma experiente peregrina que já percorreu essa jornada milenar mais de 15 vezes! \nAntigamente\, o Caminho de Santiago era uma oportunidade de penitência e troca de indulgências\, mas hoje se transformou em uma experiência rica em autoconhecimento\, cultura e interação social. \nJunte-se a nós nessa aventura emocionante\, onde você não apenas caminha por paisagens deslumbrantes\, mas também se conecta consigo mesmo e com outros peregrinos. Acompanhe Ana em momentos de reflexão\, aprendizado e troca de histórias\, enquanto percorremos trilhas repletas de história e significado. \nVamos levar você pela rota mais tradicional\, o Caminho de Santiago Francês\, ficando em albergues\, hostéis e hotéis: \n\n14/maio: Transfer Pamplona – Saint Jean Pied du Port\, com pernoite em albergue.\n15/maio: Início da nossa peregrinação de quase 800 km com a subida dos Pirineus.\n27/maio: Chegaremos em Burgos\, onde ficaremos em hotel. Neste ponto já teremos percorrido 287 km em 13 dias de caminhada.\n28/maio: Day off en Burgos! Nós merecemos!!\n29/maio a 04/junho: Percorreremos as famosas mesetas entre Burgos e Leon. Neste ponto já teremos percorrido 466 km.\n12/junho: Chegaremos ao emblemático Cebreiro\, povoado celta edificado todo em pedra.\n19/junho: Chegada em Santiago de Compostela. Missa do grupo com Botafumeiro!!\n20/jun: Visita aos Telhados da Catedral e ao “Casco Antigo” Santiago de Compostela e visita guiada dentro da Catedral.\n21/jun: Visita a Finisterra e Muxia. Jantar de despedida. Cerimônia da Queimada.\n22/jun: Fim do roteiro.\n\nSerão 40 dias de roteiro\, 779km a serem caminhados em 36 dias no Caminho de Santiago Grancês\, acompanhados pessoalmente por Ana Wanke.\nQualquer dúvida entre em contato diretamente comigo no whatsapp (41) 99282 5749 Ana Wanke. \n\nCompartilhe:
URL:https://anawanke.com/roteiro/caminho-de-santiago-frances-completo-2026/
LOCATION:Santiago de Compostela\, Santiago de Compostela\, Galícia\, Espanha
CATEGORIES:Caminhada
ATTACH;FMTTYPE=image/jpeg:https://anawanke.com/wp-content/uploads/2023/05/Capas-1.jpg
END:VEVENT
END:VCALENDAR