BEGIN:VCALENDAR
VERSION:2.0
PRODID:-//Ana Wanke - ECPv6.15.20//NONSGML v1.0//EN
CALSCALE:GREGORIAN
METHOD:PUBLISH
X-WR-CALNAME:Ana Wanke
X-ORIGINAL-URL:https://anawanke.com
X-WR-CALDESC:Eventos para Ana Wanke
REFRESH-INTERVAL;VALUE=DURATION:PT1H
X-Robots-Tag:noindex
X-PUBLISHED-TTL:PT1H
BEGIN:VTIMEZONE
TZID:America/Sao_Paulo
BEGIN:STANDARD
TZOFFSETFROM:-0300
TZOFFSETTO:-0300
TZNAME:-03
DTSTART:20250101T000000
END:STANDARD
END:VTIMEZONE
BEGIN:VEVENT
DTSTART;TZID=America/Sao_Paulo:20260101T060000
DTEND;TZID=America/Sao_Paulo:20261231T200000
DTSTAMP:20260423T204125
CREATED:20241120T140556Z
LAST-MODIFIED:20260112T135903Z
UID:27455-1767247200-1798747200@anawanke.com
SUMMARY:Assessoria ao Caminho de Santiago
DESCRIPTION:Você pensa em fazer o Caminho de Santiago\, mas não quer fazer em grupo? Você pode se preparar para fazer o Caminho com muita informação contratando o serviço de assessoria personalizada da Ana Wanke para você fazer seu Caminho com uma estrutura robusta\, escala na qualidade do atendimento e serviços exclusivos. \nO serviço pode ser complementado agregando outros produtos que você pode optar ou não: \n\nReservas de pernoites\nPDFs com o descritivo do dia de caminhada\nDespacho de Bagagem\nAcompanhamento por WhatsApp ao longo do Caminho\n\nMediante o contrato assinado depois do orçamento aprovado\, as seguintes reuniões serão marcadas: \n\nEstudo de etapas do Caminho\nEquipamento\nCuidado com Pés\nDia a Dia no Caminho\nHistória do Caminho de Santiago\n\nCaso tenha interesse\, contate-nos aqui mesmo ou pelo WhatsApp para agendarmos uma entrevista sem compromisso. \n\nCompartilhe:
URL:https://anawanke.com/roteiro/assessoriacs/
LOCATION:Santiago de Compostela\, Santiago de Compostela\, Galícia\, Espanha
CATEGORIES:Montanhismo,Trekking
ATTACH;FMTTYPE=image/jpeg:https://anawanke.com/wp-content/uploads/2024/11/Capas.jpg
END:VEVENT
BEGIN:VEVENT
DTSTART;TZID=America/Sao_Paulo:20260905T060000
DTEND;TZID=America/Sao_Paulo:20260908T120000
DTSTAMP:20260423T204125
CREATED:20231220T194242Z
LAST-MODIFIED:20260122T205055Z
UID:24349-1788588000-1788868800@anawanke.com
SUMMARY:Trekking no Itatiaia
DESCRIPTION:O Parque Nacional do Itatiaia foi o primeiro parque nacional criado no Brasil\, em 1937. Possuí algumas das montanhas mais altas do território brasileiro e uma fauna e flora muito particular\, com diversas espécies endêmicas\, ou seja\, que são encontradas somente nessa região. \n\nSábado: Saída de Curitiba. Pernoite em pousada próximo ao Parque Nacional de Itatiaia.\nDomingo: Nossa caminhada se inicia na portaria Posto do Marcão\, onde iremos pegar a trilha com uma vista fascinante para Minas Gerais. Caminharemos por cerca de 12km durante o percurso todo\, que contemplará paisagens espetaculares do Parque Nacional mais antigo do Brasil. Iniciamos a trilha em uma altitude elevada\, próxima de 2.400m\, dentro do Planalto do Itatiaia\, a trilha tem poucos desníveis. Durante o percurso vamos apreciar o ambiente dos Campos de Altitude da Serra da Mantiqueira. No percurso vamos encontrar com pequenos lagos de altitude\, que dão o nome ao circuito e depois de algumas horas chegamos no nosso ponto culminante\, a Pedra do Altar\, com 2.665 metros de altitude\, é a 11º montanha mais alta do Brasil\, lá teremos uma parada para fazer um piquenique e contemplar as lindas paisagens ao redor. Continuamos a trilha passando pela base das Agulhas Negras\, finalizando nossa caminhada. Retorno ao refúgio\, onde pernoitaremos.\nSegunda-feira: A Travessia Ruy Braga é uma das trilhas mais famosas do Parque Nacional de Itatiaia\, localizado na divisa entre os estados do Rio de Janeiro e Minas Gerais. Essa travessia é conhecida por sua beleza cênica e por oferecer uma experiência única em meio à natureza exuberante da região. Essa é uma travessia de nível fácil\, mas que exige um bom condicionamento físico\, são cerca de 22km de caminhada\, em sua maioria de descida\, pouca dificuldade técnica. Nossa trilha começa no Abrigo Rebouças\, finalizando ao lado da Cachoeira do Maromba e Véu de Noiva\, na parte baixa do Parque Nacional do Itatiaia. Durante a travessia passaremos por paisagens incríveis\, como campos de altitude\, vales\, rios\, cachoeiras e mirantes com vistas panorâmicas deslumbrantes. Além disso\, é possível avistar diversas espécies de fauna e flora típicas da região\, como bromélias\, orquídeas\, lobos-guará\, quatis\, entre outros. Iniciaremos nosso retorno à Curitiba\, fazendo pernoite no caminho.\nTerça-feira: Acordaremos cedo e iniciaremos nosso retorno à Curitiba.\n\n\nCompartilhe:
URL:https://anawanke.com/roteiro/itatiaia/
CATEGORIES:Caminhada,Montanhismo,Trekking
ATTACH;FMTTYPE=image/jpeg:https://anawanke.com/wp-content/uploads/2023/12/Capas-1.jpg
END:VEVENT
BEGIN:VEVENT
DTSTART;TZID=America/Sao_Paulo:20260922T120000
DTEND;TZID=America/Sao_Paulo:20261006T120000
DTSTAMP:20260423T204125
CREATED:20191028T195701Z
LAST-MODIFIED:20251230T224957Z
UID:11881-1790078400-1791288000@anawanke.com
SUMMARY:Caminho de São Francisco de Assis 2026
DESCRIPTION:Vamos trilhar o Caminho de São Francisco de Assis! Venha conhecer a história e o legado deste homem que foi um Santo já em vida\, conversava com os animais\, tinha um novo olhar para a humanidade e foi um dos precursores do renascimento. \nNosso objetivo maior é seguir os passos de São Francisco\, então vamos lá para um resumão: A caminhada começará na Toscana e se desenvolverá pela Umbria. Terminaremos nosso roteiro em Assis\, mundialmente famosa por ser a cidade de São Francisco de Assis e Santa Clara. Essa cidade também foi escolhida para ser o lugar do descanso eterno do primeiro Santo Millenial\, Carlo Acutis. Ainda teremos tempo de visitar o Santiario de Santa Rita de Cassia!! \nAssis é um lugar com uma energia única\, que recebe peregrinos e fiéis do mundo todo. Mas não é só por isso que Assis é especial. Ela é uma cidadezinha medieval\, que mantém muito de sua arquitetura original. \nConfira o dia a dia do nosso roteiro: \nDia 1 (22/set): Transfer de Roma à La Verna\, na Toscana. Pernoite em La Verna\, onde São Francisco de Assis recebeu os estigmas de Cristo. Teremos nosso jantar de Confraternização incluso. \nDia 2 (23/set): Após o café da manhã\, caminharemos através de uma floresta encantada\, onde São Francisco costumava meditar\, orar e curar. Passaremos o resto do dia no Santuário\, visitando as várias partes interessantes do lugar e conhecendo a história de São Francisco. Pernoite em La Verna. \nDia 3 (24/set): Caminhada de 15 km. \nDia 4 (25/set): Caminhada de 19 km. \nDia 5 (26/set): Caminhada de 22 km. \nDia 6 (27/set): Caminhada de 23 km. \nDia 7 (28/set): Caminhada de 13 km. \nDia 8 (29/set): Caminhada de 23 km. \nDia 8 (30/set): Caminhada de 20 km. Pernoite em Gubbio\, cidade onde São Francisco conversou com o Lobo. \nDia 9 (01/out): Caminhada de 16 km. \nDia 10 (02/out): Caminhada de 22 km. \nDia 11 (03/out): Caminhada de 13 km. Pernoite em Assis. Retirada do Certificado do peregrino e visita guiada no Santuário de Assis. Missa e Benção do Peregrino. \nDia 10 (04/out): Dia livre para percorrer a cidade de Assis no dia de São Francisco!! Visitaremos Basílica de Santa Clara e Santuário de São Damião (um pouco afastada da cidade). Todos esses lugares fazem parte da história de São Francisco. Além disso podemos visitar a Basílica de San Rufino encontra-se o corpo do Beato Carlo Acutis santificado em 2025. \nDia 11 (05/out): Como há muito que se ver em Assis\, vamos aproveitar e visitar a Porciúncula onde São Francisco faleceu. Visita à Cassia e a cidade natal de Santa Rita de Cassia. Pernoite em Assis. \nDia 13 (06/out): Retorno à Roma e fim do roteiro. \n\nCompartilhe:
URL:https://anawanke.com/roteiro/caminho-de-assis-2026/
CATEGORIES:Caminhada,Turismo
ATTACH;FMTTYPE=image/jpeg:https://anawanke.com/wp-content/uploads/2019/10/Corporate-Website-Facebook-Cover-.jpg
END:VEVENT
END:VCALENDAR